BEGIN:VCALENDAR
VERSION:2.0
PRODID:-//hacksw/handcal//NONSGML v1.0//EN
BEGIN:VEVENT
DTSTART:20150203T200000
DTEND:20150203T220000
LOCATION:Frog and Rosbif \nQuai Armand Lalande \n33300 BORDEAUX
ORGANIZER;CN=Quentin JACQ:MAILTO:quentin.jacq29@gmail.com
SUMMARY:AfterWork Keep in Touch
DESCRIPTION:Bonjour, \nL'association Keep in touch, en partenariat avec l'ADI  a le plaisir de vous convier à un afterwork le 3 Février de 20h00 à 22h00  \nVous pourrez revoir des anciens élèves de l'Inseec mais ...
URL:https://www.adi-inseec.com/fr/event/afterwork-keep-in-touch/2015/02/03/159
BEGIN:VALARM
TRIGGER:-P0DT1H0M0S
ACTION:DISPLAY
END:VALARM
END:VEVENT
END:VCALENDAR